1.0000000000
0.0000000000
0.0000000000
-1.0000000000
730860.5000000000
3751559.5000000000
