1.0000000000
0.0000000000
0.0000000000
-1.0000000000
736800.5000000000
3744779.5000000000
