1.0000000000
0.0000000000
0.0000000000
-1.0000000000
731010.5000000000
3744629.5000000000
