1.0000000000
0.0000000000
0.0000000000
-1.0000000000
725070.5000000000
3751409.5000000000
