1.0000000000
0.0000000000
0.0000000000
-1.0000000000
719280.5000000000
3751289.5000000000
