1.0000000000
0.0000000000
0.0000000000
-1.0000000000
725220.5000000000
3744479.5000000000
