1.0000000000
0.0000000000
0.0000000000
-1.0000000000
719430.5000000000
3744359.5000000000
