1.0000000000
0.0000000000
0.0000000000
-1.0000000000
713490.5000000000
3751139.5000000000
