1.0000000000
0.0000000000
0.0000000000
-1.0000000000
707730.5000000000
3751019.5000000000
