1.0000000000
0.0000000000
0.0000000000
-1.0000000000
713670.5000000000
3744209.5000000000
