1.0000000000
0.0000000000
0.0000000000
-1.0000000000
707880.5000000000
3744089.5000000000
