1.0000000000
0.0000000000
0.0000000000
-1.0000000000
701940.5000000000
3750899.5000000000
