1.0000000000
0.0000000000
0.0000000000
-1.0000000000
696150.5000000000
3750779.5000000000
