1.0000000000
0.0000000000
0.0000000000
-1.0000000000
702090.5000000000
3743969.5000000000
