1.0000000000
0.0000000000
0.0000000000
-1.0000000000
696300.5000000000
3743819.5000000000
