1.0000000000
0.0000000000
0.0000000000
-1.0000000000
690360.5000000000
3750629.5000000000
