1.0000000000
0.0000000000
0.0000000000
-1.0000000000
684600.5000000000
3750539.5000000000
