1.0000000000
0.0000000000
0.0000000000
-1.0000000000
690510.5000000000
3743699.5000000000
