1.0000000000
0.0000000000
0.0000000000
-1.0000000000
684720.5000000000
3743579.5000000000
