1.0000000000
0.0000000000
0.0000000000
-1.0000000000
747840.5000000000
3765869.5000000000
