1.0000000000
0.0000000000
0.0000000000
-1.0000000000
742050.5000000000
3765719.5000000000
