1.0000000000
0.0000000000
0.0000000000
-1.0000000000
748020.5000000000
3758939.5000000000
