1.0000000000
0.0000000000
0.0000000000
-1.0000000000
742230.5000000000
3758789.5000000000
