1.0000000000
0.0000000000
0.0000000000
-1.0000000000
736290.5000000000
3765569.5000000000
