1.0000000000
0.0000000000
0.0000000000
-1.0000000000
730500.5000000000
3765419.5000000000
