1.0000000000
0.0000000000
0.0000000000
-1.0000000000
736470.5000000000
3758639.5000000000
