1.0000000000
0.0000000000
0.0000000000
-1.0000000000
730680.5000000000
3758489.5000000000
