1.0000000000
0.0000000000
0.0000000000
-1.0000000000
724740.5000000000
3765299.5000000000
