1.0000000000
0.0000000000
0.0000000000
-1.0000000000
718950.5000000000
3765149.5000000000
