1.0000000000
0.0000000000
0.0000000000
-1.0000000000
724890.5000000000
3758369.5000000000
