1.0000000000
0.0000000000
0.0000000000
-1.0000000000
719130.5000000000
3758219.5000000000
