1.0000000000
0.0000000000
0.0000000000
-1.0000000000
713190.5000000000
3764999.5000000000
