1.0000000000
0.0000000000
0.0000000000
-1.0000000000
707400.5000000000
3764879.5000000000
