1.0000000000
0.0000000000
0.0000000000
-1.0000000000
713340.5000000000
3758069.5000000000
