1.0000000000
0.0000000000
0.0000000000
-1.0000000000
707580.5000000000
3757949.5000000000
