1.0000000000
0.0000000000
0.0000000000
-1.0000000000
701640.5000000000
3764759.5000000000
