1.0000000000
0.0000000000
0.0000000000
-1.0000000000
695880.5000000000
3764639.5000000000
