1.0000000000
0.0000000000
0.0000000000
-1.0000000000
701790.5000000000
3757829.5000000000
