1.0000000000
0.0000000000
0.0000000000
-1.0000000000
696000.5000000000
3757709.5000000000
