1.0000000000
0.0000000000
0.0000000000
-1.0000000000
690090.5000000000
3764519.5000000000
