1.0000000000
0.0000000000
0.0000000000
-1.0000000000
684330.5000000000
3764399.5000000000
