1.0000000000
0.0000000000
0.0000000000
-1.0000000000
690240.5000000000
3757589.5000000000
