1.0000000000
0.0000000000
0.0000000000
-1.0000000000
684450.5000000000
3757469.5000000000
