1.0000000000
0.0000000000
0.0000000000
-1.0000000000
748209.5000000000
3752001.5000000000
