1.0000000000
0.0000000000
0.0000000000
-1.0000000000
742426.5000000000
3751848.5000000000
