1.0000000000
0.0000000000
0.0000000000
-1.0000000000
748390.5000000000
3745068.5000000000
