1.0000000000
0.0000000000
0.0000000000
-1.0000000000
742603.5000000000
3744915.5000000000
