1.0000000000
0.0000000000
0.0000000000
-1.0000000000
759395.5000000000
3766184.5000000000
