1.0000000000
0.0000000000
0.0000000000
-1.0000000000
753620.5000000000
3766023.5000000000
