1.0000000000
0.0000000000
0.0000000000
-1.0000000000
759585.5000000000
3759251.5000000000
